BEGIN:VCALENDAR
METHOD:REQUEST
PRODID:-//events.orgNONSGML ical.net 4.0//EN
VERSION:2.0
BEGIN:VEVENT
DTEND;VALUE=DATE:20260716
DTSTAMP:20260421T121808Z
DTSTART;VALUE=DATE:20260716
LOCATION:Leader Bank Pavilion\, Boston
ORGANIZER;CN=:mailto:events@events.org
SEQUENCE:0
SUMMARY:Bob Dylan
UID:2e12d4a2-8053-4f7e-8b4c-25b255438d04
URL:https://events.org/e/Bob-Dylan/8IYFYWSP
BEGIN:VALARM
ACTION:DISPLAY
SUMMARY:Reminder
TRIGGER:-P1D
END:VALARM
END:VEVENT
END:VCALENDAR
