BEGIN:VCALENDAR
METHOD:REQUEST
PRODID:-//events.orgNONSGML ical.net 4.0//EN
VERSION:2.0
BEGIN:VEVENT
DTEND;VALUE=DATE:20260613
DTSTAMP:20260419T142218Z
DTSTART;VALUE=DATE:20260613
LOCATION:Union Transfer\, Philadelphia
ORGANIZER;CN=:mailto:events@events.org
SEQUENCE:0
SUMMARY:INJI
UID:8f63aa23-32d3-4fb8-8bc4-6dd2de3ddd52
URL:https://events.org/e/INJI/DKL7DBDS
BEGIN:VALARM
ACTION:DISPLAY
SUMMARY:Reminder
TRIGGER:-P1D
END:VALARM
END:VEVENT
END:VCALENDAR
