BEGIN:VCALENDAR
METHOD:REQUEST
PRODID:-//events.orgNONSGML ical.net 4.0//EN
VERSION:2.0
BEGIN:VEVENT
DTEND;VALUE=DATE:20260710
DTSTAMP:20260424T092326Z
DTSTART;VALUE=DATE:20260710
LOCATION:Improv Comedy Club- Houston\, Houston
ORGANIZER;CN=:mailto:events@events.org
SEQUENCE:0
SUMMARY:D. L. Hughley
UID:71c39cfb-7d40-4f7a-9967-f4dff013241a
URL:https://events.org/e/D-L-Hughley/VJ99SWFT
BEGIN:VALARM
ACTION:DISPLAY
SUMMARY:Reminder
TRIGGER:-P1D
END:VALARM
END:VEVENT
END:VCALENDAR
