BEGIN:VCALENDAR
METHOD:REQUEST
PRODID:-//events.orgNONSGML ical.net 4.0//EN
VERSION:2.0
BEGIN:VEVENT
DTEND;VALUE=DATE:20260627
DTSTAMP:20260422T090452Z
DTSTART;VALUE=DATE:20260627
LOCATION:ACT Theatre\, Seattle
ORGANIZER;CN=:mailto:events@events.org
SEQUENCE:0
SUMMARY:Frida...A Self Portrait
UID:817e343b-0a14-4a6c-818b-a47c41c9d8b9
URL:https://events.org/e/FridaA-Self-Portrait/LNGQ2EAD
BEGIN:VALARM
ACTION:DISPLAY
SUMMARY:Reminder
TRIGGER:-P1D
END:VALARM
END:VEVENT
END:VCALENDAR
