BEGIN:VCALENDAR
METHOD:REQUEST
PRODID:-//events.orgNONSGML ical.net 4.0//EN
VERSION:2.0
BEGIN:VEVENT
DTEND;VALUE=DATE:20260428
DTSTAMP:20260424T081141Z
DTSTART;VALUE=DATE:20260428
LOCATION:Richard Rodgers Theatre\, New York
ORGANIZER;CN=:mailto:events@events.org
SEQUENCE:0
SUMMARY:Hamilton (NY)
UID:3447e80c-ce90-485b-97d0-4b7bb3386e34
URL:https://events.org/e/Hamilton-NY/FJ7FP8ND
BEGIN:VALARM
ACTION:DISPLAY
SUMMARY:Reminder
TRIGGER:-P1D
END:VALARM
END:VEVENT
END:VCALENDAR
