BEGIN:VCALENDAR
METHOD:REQUEST
PRODID:-//events.orgNONSGML ical.net 4.0//EN
VERSION:2.0
BEGIN:VEVENT
DTEND;VALUE=DATE:20260426
DTSTAMP:20260419T143544Z
DTSTART;VALUE=DATE:20260426
LOCATION:House of Blues Chicago\, Chicago
ORGANIZER;CN=:mailto:events@events.org
SEQUENCE:0
SUMMARY:Biffy Clyro: The Futique Tour
UID:aa88b3bc-aa7f-4169-9b7b-8ff92a5041e3
URL:https://events.org/e/Biffy-Clyro-The-Futique-Tour/9J658W3S
BEGIN:VALARM
ACTION:DISPLAY
SUMMARY:Reminder
TRIGGER:-P1D
END:VALARM
END:VEVENT
END:VCALENDAR
