BEGIN:VCALENDAR
METHOD:REQUEST
PRODID:-//events.orgNONSGML ical.net 4.0//EN
VERSION:2.0
BEGIN:VEVENT
DTEND;VALUE=DATE:20260614
DTSTAMP:20260422T090405Z
DTSTART;VALUE=DATE:20260614
LOCATION:Humphreys Backstage Live\, San Diego
ORGANIZER;CN=:mailto:events@events.org
SEQUENCE:0
SUMMARY:Eugenie Jones
UID:233b629e-08f2-4489-bdfd-68a44472dd3b
URL:https://events.org/e/Eugenie-Jones/Q7GQ62CG
BEGIN:VALARM
ACTION:DISPLAY
SUMMARY:Reminder
TRIGGER:-P1D
END:VALARM
END:VEVENT
END:VCALENDAR
