BEGIN:VCALENDAR
METHOD:REQUEST
PRODID:-//events.orgNONSGML ical.net 4.0//EN
VERSION:2.0
BEGIN:VEVENT
DTEND;VALUE=DATE:20260608
DTSTAMP:20260419T142313Z
DTSTART;VALUE=DATE:20260608
LOCATION:The Rebel Lounge\, Phoenix
ORGANIZER;CN=:mailto:events@events.org
SEQUENCE:0
SUMMARY:Flawed Mangoes: The Killswitch Memories Tour
UID:24ea8d26-4796-49d9-a287-45a7fd39067f
URL:https://events.org/e/Flawed-Mangoes-The-Killswitch-Memories-Tour/3WUIO
 2FL
BEGIN:VALARM
ACTION:DISPLAY
SUMMARY:Reminder
TRIGGER:-P1D
END:VALARM
END:VEVENT
END:VCALENDAR
