BEGIN:VCALENDAR
METHOD:REQUEST
PRODID:-//events.orgNONSGML ical.net 4.0//EN
VERSION:2.0
BEGIN:VEVENT
DTEND;VALUE=DATE:20260530
DTSTAMP:20260419T125927Z
DTSTART;VALUE=DATE:20260530
LOCATION:Valley Bar\, Phoenix
ORGANIZER;CN=:mailto:events@events.org
SEQUENCE:0
SUMMARY:ABE PARKER
UID:741cfb09-61b4-4078-adf4-c42c23ed31af
URL:https://events.org/e/ABE-PARKER/7F3UBS9K
BEGIN:VALARM
ACTION:DISPLAY
SUMMARY:Reminder
TRIGGER:-P1D
END:VALARM
END:VEVENT
END:VCALENDAR
