BEGIN:VCALENDAR
METHOD:REQUEST
PRODID:-//events.orgNONSGML ical.net 4.0//EN
VERSION:2.0
BEGIN:VEVENT
DTEND;VALUE=DATE:20260620
DTSTAMP:20260421T144427Z
DTSTART;VALUE=DATE:20260620
LOCATION:TD Pavilion at Highmark Mann\, Philadelphia
ORGANIZER;CN=:mailto:events@events.org
SEQUENCE:0
SUMMARY:Disney's The Lion King in Concert with The Philadelphia Orchestra
UID:73a474c7-8eea-484e-843f-7d9a0d8a266a
URL:https://events.org/e/Disneys-The-Lion-King-in-Concert-with-The-Phi/56K
 5LNJ3
BEGIN:VALARM
ACTION:DISPLAY
SUMMARY:Reminder
TRIGGER:-P1D
END:VALARM
END:VEVENT
END:VCALENDAR
