BEGIN:VCALENDAR
METHOD:REQUEST
PRODID:-//events.orgNONSGML ical.net 4.0//EN
VERSION:2.0
BEGIN:VEVENT
DTEND;VALUE=DATE:20260506
DTSTAMP:20260421T095230Z
DTSTART;VALUE=DATE:20260506
LOCATION:Elysian Theater\, Los Angeles
ORGANIZER;CN=:mailto:events@events.org
SEQUENCE:0
SUMMARY:Netflix Is A Joke Presents: Langston Kerman
UID:a0e11b38-b635-435f-9131-77a95d2dc6db
URL:https://events.org/e/Netflix-Is-A-Joke-Presents-Langston-Kerman/U9HN98
 F4
BEGIN:VALARM
ACTION:DISPLAY
SUMMARY:Reminder
TRIGGER:-P1D
END:VALARM
END:VEVENT
END:VCALENDAR
