BEGIN:VCALENDAR
METHOD:REQUEST
PRODID:-//events.orgNONSGML ical.net 4.0//EN
VERSION:2.0
BEGIN:VEVENT
DTEND;VALUE=DATE:20260908
DTSTAMP:20260422T090541Z
DTSTART;VALUE=DATE:20260908
LOCATION:Citizens Bank Park\, Philadelphia
ORGANIZER;CN=:mailto:events@events.org
SEQUENCE:0
SUMMARY:Philadelphia Phillies vs. Houston Astros
UID:493e8210-5910-43ed-b25c-5ddda7bf6e3c
URL:https://events.org/e/Philadelphia-Phillies-vs-Houston-Astros/BOEAREDM
BEGIN:VALARM
ACTION:DISPLAY
SUMMARY:Reminder
TRIGGER:-P1D
END:VALARM
END:VEVENT
END:VCALENDAR
