BEGIN:VCALENDAR
METHOD:REQUEST
PRODID:-//events.orgNONSGML ical.net 4.0//EN
VERSION:2.0
BEGIN:VEVENT
DTEND;VALUE=DATE:20260922
DTSTAMP:20260422T090851Z
DTSTART;VALUE=DATE:20260922
LOCATION:Walnut Street Theatre\, Philadelphia
ORGANIZER;CN=:mailto:events@events.org
SEQUENCE:0
SUMMARY:The Addams Family (Touring)
UID:e4262146-ff91-4861-a3a7-b3ad6d0364ac
URL:https://events.org/e/The-Addams-Family-Touring/58HFBY37
BEGIN:VALARM
ACTION:DISPLAY
SUMMARY:Reminder
TRIGGER:-P1D
END:VALARM
END:VEVENT
END:VCALENDAR
