BEGIN:VCALENDAR
METHOD:REQUEST
PRODID:-//events.orgNONSGML ical.net 4.0//EN
VERSION:2.0
BEGIN:VEVENT
DTEND;VALUE=DATE:20260425
DTSTAMP:20260421T094941Z
DTSTART;VALUE=DATE:20260425
LOCATION:Cadillac Palace\, Chicago
ORGANIZER;CN=:mailto:events@events.org
SEQUENCE:0
SUMMARY:The Great Gatsby (Chicago)
UID:b03a3d7b-f858-46bd-b10e-d36f71c1487b
URL:https://events.org/e/The-Great-Gatsby-Chicago/SLT7IJAO
BEGIN:VALARM
ACTION:DISPLAY
SUMMARY:Reminder
TRIGGER:-P1D
END:VALARM
END:VEVENT
END:VCALENDAR
