BEGIN:VCALENDAR
METHOD:REQUEST
PRODID:-//events.orgNONSGML ical.net 4.0//EN
VERSION:2.0
BEGIN:VEVENT
DTEND;VALUE=DATE:20260508
DTSTAMP:20260423T133149Z
DTSTART;VALUE=DATE:20260508
LOCATION:Teragram Ballroom\, Los Angeles
ORGANIZER;CN=:mailto:events@events.org
SEQUENCE:0
SUMMARY:Fishbone - In Your Face 40th Anniversary Tour
UID:83c577fc-5c46-482c-b9a2-15d587b6fb99
URL:https://events.org/e/Fishbone---In-Your-Face-40th-Anniversary-Tour/86C
 462TK
BEGIN:VALARM
ACTION:DISPLAY
SUMMARY:Reminder
TRIGGER:-P1D
END:VALARM
END:VEVENT
END:VCALENDAR
