BEGIN:VCALENDAR
METHOD:REQUEST
PRODID:-//events.orgNONSGML ical.net 4.0//EN
VERSION:2.0
BEGIN:VEVENT
DTEND;VALUE=DATE:20260621
DTSTAMP:20260421T103900Z
DTSTART;VALUE=DATE:20260621
LOCATION:Coors Field\, Denver
ORGANIZER;CN=:mailto:events@events.org
SEQUENCE:0
SUMMARY:Colorado Rockies vs. Pittsburgh Pirates
UID:b3206d63-15a6-4ee1-a251-b50d5b45d392
URL:https://events.org/e/Colorado-Rockies-vs-Pittsburgh-Pirates/4827III7
BEGIN:VALARM
ACTION:DISPLAY
SUMMARY:Reminder
TRIGGER:-P1D
END:VALARM
END:VEVENT
END:VCALENDAR
