BEGIN:VCALENDAR
METHOD:REQUEST
PRODID:-//events.orgNONSGML ical.net 4.0//EN
VERSION:2.0
BEGIN:VEVENT
DTEND;VALUE=DATE:20261010
DTSTAMP:20260422T090301Z
DTSTART;VALUE=DATE:20261010
LOCATION:Phoenix Rising Stadium\, Phoenix
ORGANIZER;CN=:mailto:events@events.org
SEQUENCE:0
SUMMARY:OKTOBERFEST - vs Las Vegas Lights FC
UID:4330be9a-ec49-4b60-b4db-aec62a905a50
URL:https://events.org/e/OKTOBERFEST---vs-Las-Vegas-Lights-FC/MLB2JB5O
BEGIN:VALARM
ACTION:DISPLAY
SUMMARY:Reminder
TRIGGER:-P1D
END:VALARM
END:VEVENT
END:VCALENDAR
