BEGIN:VCALENDAR
METHOD:REQUEST
PRODID:-//events.orgNONSGML ical.net 4.0//EN
VERSION:2.0
BEGIN:VEVENT
DTEND;VALUE=DATE:20260528
DTSTAMP:20260424T081040Z
DTSTART;VALUE=DATE:20260528
LOCATION:Thalia Hall\, Chicago
ORGANIZER;CN=:mailto:events@events.org
SEQUENCE:0
SUMMARY:The Black Angels: Passover 2026 Tour with L.A. Witch
UID:e0fabe59-e231-4623-aa7d-c07f09aed808
URL:https://events.org/e/The-Black-Angels-Passover-2026-Tour-with-LA-Witch
 /KF68TK5T
BEGIN:VALARM
ACTION:DISPLAY
SUMMARY:Reminder
TRIGGER:-P1D
END:VALARM
END:VEVENT
END:VCALENDAR
