BEGIN:VCALENDAR
METHOD:REQUEST
PRODID:-//events.orgNONSGML ical.net 4.0//EN
VERSION:2.0
BEGIN:VEVENT
DTEND;VALUE=DATE:20260628
DTSTAMP:20260422T091122Z
DTSTART;VALUE=DATE:20260628
LOCATION:ACT Theatre\, Seattle
ORGANIZER;CN=:mailto:events@events.org
SEQUENCE:0
SUMMARY:Frida...A Self Portrait
UID:22c85c02-6255-47d2-aa16-43ea87dc6a48
URL:https://events.org/e/FridaA-Self-Portrait/NULVDB75
BEGIN:VALARM
ACTION:DISPLAY
SUMMARY:Reminder
TRIGGER:-P1D
END:VALARM
END:VEVENT
END:VCALENDAR
