BEGIN:VCALENDAR
METHOD:REQUEST
PRODID:-//events.orgNONSGML ical.net 4.0//EN
VERSION:2.0
BEGIN:VEVENT
DTEND;VALUE=DATE:20260516
DTSTAMP:20260423T134107Z
DTSTART;VALUE=DATE:20260516
LOCATION:The Fillmore\, San Francisco
ORGANIZER;CN=:mailto:events@events.org
SEQUENCE:0
SUMMARY:LAGWAGON - Celebrating 35 Years of Fat Wreck Chords
UID:7af0c387-d1cd-4f13-bba0-a14b4bc1ef17
URL:https://events.org/e/LAGWAGON---Celebrating-35-Years-of-Fat-Wreck/U27N
 RM2R
BEGIN:VALARM
ACTION:DISPLAY
SUMMARY:Reminder
TRIGGER:-P1D
END:VALARM
END:VEVENT
END:VCALENDAR
