BEGIN:VCALENDAR
METHOD:REQUEST
PRODID:-//events.orgNONSGML ical.net 4.0//EN
VERSION:2.0
BEGIN:VEVENT
DTEND;VALUE=DATE:20261114
DTSTAMP:20260421T104219Z
DTSTART;VALUE=DATE:20261114
LOCATION:Gerald Ford Stadium\, Dallas
ORGANIZER;CN=:mailto:events@events.org
SEQUENCE:0
SUMMARY:SMU Mustangs Football vs. Wake Forest Demon Deacons Football
UID:70bd5543-df74-49a7-bb78-41b00271e165
URL:https://events.org/e/SMU-Mustangs-Football-vs-Wake-Forest-Demon-De/DWW
 5W577
BEGIN:VALARM
ACTION:DISPLAY
SUMMARY:Reminder
TRIGGER:-P1D
END:VALARM
END:VEVENT
END:VCALENDAR
