BEGIN:VCALENDAR
METHOD:REQUEST
PRODID:-//events.orgNONSGML ical.net 4.0//EN
VERSION:2.0
BEGIN:VEVENT
DTEND;VALUE=DATE:20260423
DTSTAMP:20260422T092207Z
DTSTART;VALUE=DATE:20260423
LOCATION:Lucille Lortel Theatre\, New York
ORGANIZER;CN=:mailto:events@events.org
SEQUENCE:0
SUMMARY:KENREX: A True Crime Thriller
UID:383c79fe-1b1b-421c-9641-ce28da7323bf
URL:https://events.org/e/KENREX-A-True-Crime-Thriller/28JO4D7G
BEGIN:VALARM
ACTION:DISPLAY
SUMMARY:Reminder
TRIGGER:-P1D
END:VALARM
END:VEVENT
END:VCALENDAR
