BEGIN:VCALENDAR
METHOD:REQUEST
PRODID:-//events.orgNONSGML ical.net 4.0//EN
VERSION:2.0
BEGIN:VEVENT
DTEND;VALUE=DATE:20260522
DTSTAMP:20260422T090802Z
DTSTART;VALUE=DATE:20260522
LOCATION:Denver Pavilions\, Denver
ORGANIZER;CN=:mailto:events@events.org
SEQUENCE:0
SUMMARY:Bodies - The Science Within - Denver
UID:b93531f1-9ef8-4e72-b7cd-bd0b387f25bd
URL:https://events.org/e/Bodies---The-Science-Within---Denver/A9XKTMEH
BEGIN:VALARM
ACTION:DISPLAY
SUMMARY:Reminder
TRIGGER:-P1D
END:VALARM
END:VEVENT
END:VCALENDAR
