BEGIN:VCALENDAR
METHOD:REQUEST
PRODID:-//events.orgNONSGML ical.net 4.0//EN
VERSION:2.0
BEGIN:VEVENT
DTEND;VALUE=DATE:20260604
DTSTAMP:20260423T134423Z
DTSTART;VALUE=DATE:20260604
LOCATION:The Van Buren\, Phoenix
ORGANIZER;CN=:mailto:events@events.org
SEQUENCE:0
SUMMARY:Pattie Gonia: Save Her! Feat. Sequoia And Vera! (18+)
UID:2bcea6e7-aed8-4b82-bf67-b554f527760e
URL:https://events.org/e/Pattie-Gonia-Save-Her-Feat-Sequoia-And-Vera-18/PM
 JJ3KRW
BEGIN:VALARM
ACTION:DISPLAY
SUMMARY:Reminder
TRIGGER:-P1D
END:VALARM
END:VEVENT
END:VCALENDAR
