BEGIN:VCALENDAR
METHOD:REQUEST
PRODID:-//events.orgNONSGML ical.net 4.0//EN
VERSION:2.0
BEGIN:VEVENT
DTEND;VALUE=DATE:20260618
DTSTAMP:20260421T094426Z
DTSTART;VALUE=DATE:20260618
LOCATION:Casbah-San Diego\, San Diego
ORGANIZER;CN=:mailto:events@events.org
SEQUENCE:0
SUMMARY:Neil Hamburger
UID:143e1f50-396f-4945-b102-703d3b05742f
URL:https://events.org/e/Neil-Hamburger/NFGBEE2K
BEGIN:VALARM
ACTION:DISPLAY
SUMMARY:Reminder
TRIGGER:-P1D
END:VALARM
END:VEVENT
END:VCALENDAR
