BEGIN:VCALENDAR
METHOD:REQUEST
PRODID:-//events.orgNONSGML ical.net 4.0//EN
VERSION:2.0
BEGIN:VEVENT
DTEND;VALUE=DATE:20260502
DTSTAMP:20260421T082244Z
DTSTART;VALUE=DATE:20260502
LOCATION:The Rebel Lounge\, Phoenix
ORGANIZER;CN=:mailto:events@events.org
SEQUENCE:0
SUMMARY:EMONIGHTPHX
UID:144c6da2-9856-4dad-b070-7cf144af9a02
URL:https://events.org/e/EMONIGHTPHX/2CUQIH28
BEGIN:VALARM
ACTION:DISPLAY
SUMMARY:Reminder
TRIGGER:-P1D
END:VALARM
END:VEVENT
END:VCALENDAR
