BEGIN:VCALENDAR
METHOD:REQUEST
PRODID:-//events.orgNONSGML ical.net 4.0//EN
VERSION:2.0
BEGIN:VEVENT
DTEND;VALUE=DATE:20260528
DTSTAMP:20260424T081130Z
DTSTART;VALUE=DATE:20260528
LOCATION:The Chicago Theatre\, Chicago
ORGANIZER;CN=:mailto:events@events.org
SEQUENCE:0
SUMMARY:Comedy Bang! Bang! Ground Beefing Tour 2026
UID:b0d483a0-5cba-4f61-a82d-da67cf4d747f
URL:https://events.org/e/Comedy-Bang-Bang-Ground-Beefing-Tour-2026/8I5CVMTJ
BEGIN:VALARM
ACTION:DISPLAY
SUMMARY:Reminder
TRIGGER:-P1D
END:VALARM
END:VEVENT
END:VCALENDAR
