BEGIN:VCALENDAR
METHOD:REQUEST
PRODID:-//events.orgNONSGML ical.net 4.0//EN
VERSION:2.0
BEGIN:VEVENT
DTEND;VALUE=DATE:20260612
DTSTAMP:20260423T133531Z
DTSTART;VALUE=DATE:20260612
LOCATION:Guthrie Theater - Wurtele Thrust Stage\, Minneapolis
ORGANIZER;CN=:mailto:events@events.org
SEQUENCE:0
SUMMARY:Little Women
UID:dfc66061-25ab-41b5-9b6b-540835dc8ea0
URL:https://events.org/e/Little-Women/BHD53SKU
BEGIN:VALARM
ACTION:DISPLAY
SUMMARY:Reminder
TRIGGER:-P1D
END:VALARM
END:VEVENT
END:VCALENDAR
