BEGIN:VCALENDAR
METHOD:REQUEST
PRODID:-//events.orgNONSGML ical.net 4.0//EN
VERSION:2.0
BEGIN:VEVENT
DTEND;VALUE=DATE:20260422
DTSTAMP:20260422T090310Z
DTSTART;VALUE=DATE:20260422
LOCATION:Webster Hall\, New York
ORGANIZER;CN=:mailto:events@events.org
SEQUENCE:0
SUMMARY:Juvenile (16 and Over)
UID:56b9eed3-cb49-4c67-b56a-64d3d3ec665f
URL:https://events.org/e/Juvenile-16-and-Over/7K8E66PB
BEGIN:VALARM
ACTION:DISPLAY
SUMMARY:Reminder
TRIGGER:-P1D
END:VALARM
END:VEVENT
END:VCALENDAR
