BEGIN:VCALENDAR
METHOD:REQUEST
PRODID:-//events.orgNONSGML ical.net 4.0//EN
VERSION:2.0
BEGIN:VEVENT
DTEND;VALUE=DATE:20260612
DTSTAMP:20260424T080643Z
DTSTART;VALUE=DATE:20260612
LOCATION:Underground Arts\, Philadelphia
ORGANIZER;CN=:mailto:events@events.org
SEQUENCE:0
SUMMARY:I Am The Avalanche with Make Do And Mend (21+ Event)
UID:74fe0e10-db6d-47fe-a8bf-ffbd00f12be7
URL:https://events.org/e/I-Am-The-Avalanche-with-Make-Do-And-Mend-21-Event
 /UMR4SOBE
BEGIN:VALARM
ACTION:DISPLAY
SUMMARY:Reminder
TRIGGER:-P1D
END:VALARM
END:VEVENT
END:VCALENDAR
