BEGIN:VCALENDAR
METHOD:REQUEST
PRODID:-//events.orgNONSGML ical.net 4.0//EN
VERSION:2.0
BEGIN:VEVENT
DTEND;VALUE=DATE:20260419
DTSTAMP:20260421T082223Z
DTSTART;VALUE=DATE:20260419
LOCATION:Westside Theatre Upstairs - NY\, New York
ORGANIZER;CN=:mailto:events@events.org
SEQUENCE:0
SUMMARY:Little Shop of Horrors
UID:44c4de35-7b54-49e7-93da-b832acb0d2c6
URL:https://events.org/e/Little-Shop-of-Horrors/NOLVFUQ2
BEGIN:VALARM
ACTION:DISPLAY
SUMMARY:Reminder
TRIGGER:-P1D
END:VALARM
END:VEVENT
END:VCALENDAR
