BEGIN:VCALENDAR
METHOD:REQUEST
PRODID:-//events.orgNONSGML ical.net 4.0//EN
VERSION:2.0
BEGIN:VEVENT
DTEND;VALUE=DATE:20260614
DTSTAMP:20260419T154337Z
DTSTART;VALUE=DATE:20260614
LOCATION:The Bronze Peacock at House of Blues Houston\, Houston
ORGANIZER;CN=:mailto:events@events.org
SEQUENCE:0
SUMMARY:bixby
UID:97252160-46ba-46b2-9e67-f6f9f8d1c8f7
URL:https://events.org/e/bixby/IREKLJ63
BEGIN:VALARM
ACTION:DISPLAY
SUMMARY:Reminder
TRIGGER:-P1D
END:VALARM
END:VEVENT
END:VCALENDAR
