BEGIN:VCALENDAR
METHOD:REQUEST
PRODID:-//events.orgNONSGML ical.net 4.0//EN
VERSION:2.0
BEGIN:VEVENT
DTEND;VALUE=DATE:20260625
DTSTAMP:20260422T092333Z
DTSTART;VALUE=DATE:20260625
LOCATION:Tractor\, Seattle
ORGANIZER;CN=:mailto:events@events.org
SEQUENCE:0
SUMMARY:Ak'chamel w/ Diminished Men\, Derek Monypeny
UID:02351f86-4fdd-4efe-83cb-784fcb4a0235
URL:https://events.org/e/Akchamel-w-Diminished-Men-Derek-Monypeny/UBKXP8B5
BEGIN:VALARM
ACTION:DISPLAY
SUMMARY:Reminder
TRIGGER:-P1D
END:VALARM
END:VEVENT
END:VCALENDAR
