BEGIN:VCALENDAR
METHOD:REQUEST
PRODID:-//events.orgNONSGML ical.net 4.0//EN
VERSION:2.0
BEGIN:VEVENT
DTEND;VALUE=DATE:20260305
DTSTAMP:20260421T082048Z
DTSTART;VALUE=DATE:20260305
LOCATION:Lunt-Fontanne Theatre\, New York
ORGANIZER;CN=:mailto:events@events.org
SEQUENCE:0
SUMMARY:Death Becomes Her
UID:35a2bf67-1daa-4aef-b816-75857242f6c2
URL:https://events.org/e/Death-Becomes-Her/EYN4VA8K
BEGIN:VALARM
ACTION:DISPLAY
SUMMARY:Reminder
TRIGGER:-P1D
END:VALARM
END:VEVENT
END:VCALENDAR
