BEGIN:VCALENDAR
METHOD:REQUEST
PRODID:-//events.orgNONSGML ical.net 4.0//EN
VERSION:2.0
BEGIN:VEVENT
DTEND;VALUE=DATE:20260626
DTSTAMP:20260421T132353Z
DTSTART;VALUE=DATE:20260626
LOCATION:The Fillmore Philadelphia\, Philadelphia
ORGANIZER;CN=:mailto:events@events.org
SEQUENCE:0
SUMMARY:WXPN Welcomes: The Breeders
UID:6f19f311-baa7-4725-b4d5-b97ed3d9a3c3
URL:https://events.org/e/WXPNWelcomes-The-Breeders/P2XDE5JD
BEGIN:VALARM
ACTION:DISPLAY
SUMMARY:Reminder
TRIGGER:-P1D
END:VALARM
END:VEVENT
END:VCALENDAR
