BEGIN:VCALENDAR
METHOD:REQUEST
PRODID:-//events.orgNONSGML ical.net 4.0//EN
VERSION:2.0
BEGIN:VEVENT
DTEND;VALUE=DATE:20260426
DTSTAMP:20260424T081006Z
DTSTART;VALUE=DATE:20260426
LOCATION:Gramercy Theatre\, New York
ORGANIZER;CN=:mailto:events@events.org
SEQUENCE:0
SUMMARY:DDG - Blame The Chat Tour
UID:7b32710b-12e7-4232-8627-0efa0cd72998
URL:https://events.org/e/DDG---Blame-The-Chat-Tour/XQ7PCWAX
BEGIN:VALARM
ACTION:DISPLAY
SUMMARY:Reminder
TRIGGER:-P1D
END:VALARM
END:VEVENT
END:VCALENDAR
