BEGIN:VCALENDAR
METHOD:REQUEST
PRODID:-//events.orgNONSGML ical.net 4.0//EN
VERSION:2.0
BEGIN:VEVENT
DTEND;VALUE=DATE:20260622
DTSTAMP:20260419T142934Z
DTSTART;VALUE=DATE:20260622
LOCATION:Fenway Park\, Boston
ORGANIZER;CN=:mailto:events@events.org
SEQUENCE:0
SUMMARY:Mumford & Sons - Prizefighter Tour
UID:dc88f5be-1e8b-4e1c-816c-a06f7cb51cd5
URL:https://events.org/e/Mumford-Sons---Prizefighter-Tour/JHM9NR8Q
BEGIN:VALARM
ACTION:DISPLAY
SUMMARY:Reminder
TRIGGER:-P1D
END:VALARM
END:VEVENT
END:VCALENDAR
