BEGIN:VCALENDAR
METHOD:REQUEST
PRODID:-//events.orgNONSGML ical.net 4.0//EN
VERSION:2.0
BEGIN:VEVENT
DTEND;VALUE=DATE:20261010
DTSTAMP:20260422T091123Z
DTSTART;VALUE=DATE:20261010
LOCATION:Fisher Theatre - Detroit\, Detroit
ORGANIZER;CN=:mailto:events@events.org
SEQUENCE:0
SUMMARY:Art Garfunkel (No children under 5 allowed)
UID:c5655100-7c45-4163-817d-4e13945672d4
URL:https://events.org/e/Art-Garfunkel-No-children-under-5-allowed/86VL5L7N
BEGIN:VALARM
ACTION:DISPLAY
SUMMARY:Reminder
TRIGGER:-P1D
END:VALARM
END:VEVENT
END:VCALENDAR
