BEGIN:VCALENDAR
METHOD:REQUEST
PRODID:-//events.orgNONSGML ical.net 4.0//EN
VERSION:2.0
BEGIN:VEVENT
DTEND;VALUE=DATE:20260502
DTSTAMP:20260421T130452Z
DTSTART;VALUE=DATE:20260502
LOCATION:Houston Improv\, Houston
ORGANIZER;CN=:mailto:events@events.org
SEQUENCE:0
SUMMARY:Michael Colyar
UID:7bf708d5-7138-4dcb-95c5-ad42ab7881cc
URL:https://events.org/e/Michael-Colyar/M6643HS2
BEGIN:VALARM
ACTION:DISPLAY
SUMMARY:Reminder
TRIGGER:-P1D
END:VALARM
END:VEVENT
END:VCALENDAR
