BEGIN:VCALENDAR
METHOD:REQUEST
PRODID:-//events.orgNONSGML ical.net 4.0//EN
VERSION:2.0
BEGIN:VEVENT
DTEND;VALUE=DATE:20260530
DTSTAMP:20260423T133816Z
DTSTART;VALUE=DATE:20260530
LOCATION:MilkBoy Philadelphia\, Philadelphia
ORGANIZER;CN=:mailto:events@events.org
SEQUENCE:0
SUMMARY:Rachel Bobbitt + Lia Pappas-Kemps (21+ Event)
UID:6fece2d6-6809-49e3-9c7d-499ad944c2a0
URL:https://events.org/e/Rachel-Bobbitt-Lia-Pappas-Kemps-21-Event/KMG8QQ7D
BEGIN:VALARM
ACTION:DISPLAY
SUMMARY:Reminder
TRIGGER:-P1D
END:VALARM
END:VEVENT
END:VCALENDAR
