BEGIN:VCALENDAR
METHOD:REQUEST
PRODID:-//events.orgNONSGML ical.net 4.0//EN
VERSION:2.0
BEGIN:VEVENT
DTEND;VALUE=DATE:20260506
DTSTAMP:20260419T143200Z
DTSTART;VALUE=DATE:20260506
LOCATION:Dynasty Typewriter at the Hayworth\, Los Angeles
ORGANIZER;CN=:mailto:events@events.org
SEQUENCE:0
SUMMARY:Netflix Is A Joke Presents: Lucas Zelnick - Crowdwork Only Show
UID:f26b7819-b9e8-4902-b46b-c4b478dfa38d
URL:https://events.org/e/Netflix-Is-A-Joke-Presents-Lucas-Zelnick---Cr/SEY
 C2MY8
BEGIN:VALARM
ACTION:DISPLAY
SUMMARY:Reminder
TRIGGER:-P1D
END:VALARM
END:VEVENT
END:VCALENDAR
