BEGIN:VCALENDAR
METHOD:REQUEST
PRODID:-//events.orgNONSGML ical.net 4.0//EN
VERSION:2.0
BEGIN:VEVENT
DTEND;VALUE=DATE:20260612
DTSTAMP:20260424T092607Z
DTSTART;VALUE=DATE:20260612
LOCATION:Walter Studios\, Phoenix
ORGANIZER;CN=:mailto:events@events.org
SEQUENCE:0
SUMMARY:Cozy Worldwide (21 and Over)
UID:f87e3635-1685-4479-98dd-61cf36f6d2a6
URL:https://events.org/e/Cozy-Worldwide-21-and-Over/6MSHAV5M
BEGIN:VALARM
ACTION:DISPLAY
SUMMARY:Reminder
TRIGGER:-P1D
END:VALARM
END:VEVENT
END:VCALENDAR
