BEGIN:VCALENDAR
METHOD:REQUEST
PRODID:-//events.orgNONSGML ical.net 4.0//EN
VERSION:2.0
BEGIN:VEVENT
DTEND;VALUE=DATE:20260626
DTSTAMP:20260421T104142Z
DTSTART;VALUE=DATE:20260626
LOCATION:Grizzly Rose\, Denver
ORGANIZER;CN=:mailto:events@events.org
SEQUENCE:0
SUMMARY:RODNEY ATKINS
UID:0cf8fc33-1d4d-4421-ae94-260dc4077481
URL:https://events.org/e/RODNEY-ATKINS/P67V77T9
BEGIN:VALARM
ACTION:DISPLAY
SUMMARY:Reminder
TRIGGER:-P1D
END:VALARM
END:VEVENT
END:VCALENDAR
