BEGIN:VCALENDAR
METHOD:REQUEST
PRODID:-//events.orgNONSGML ical.net 4.0//EN
VERSION:2.0
BEGIN:VEVENT
DTEND;VALUE=DATE:20260627
DTSTAMP:20260421T095141Z
DTSTART;VALUE=DATE:20260627
LOCATION:Huntington Avenue Theatre\, Boston
ORGANIZER;CN=:mailto:events@events.org
SEQUENCE:0
SUMMARY:Eureka Day (Touring)
UID:fdc9c95b-d1c3-43ce-8058-170c970883ef
URL:https://events.org/e/Eureka-Day-Touring/HHCK3TF9
BEGIN:VALARM
ACTION:DISPLAY
SUMMARY:Reminder
TRIGGER:-P1D
END:VALARM
END:VEVENT
END:VCALENDAR
