BEGIN:VCALENDAR
METHOD:REQUEST
PRODID:-//events.orgNONSGML ical.net 4.0//EN
VERSION:2.0
BEGIN:VEVENT
DTEND;VALUE=DATE:20260621
DTSTAMP:20260419T142950Z
DTSTART;VALUE=DATE:20260621
LOCATION:Arizona Financial Theatre\, Phoenix
ORGANIZER;CN=:mailto:events@events.org
SEQUENCE:0
SUMMARY:Khalid: It's Always Summer Somewhere Tour
UID:ef39ea91-bd54-4e47-874a-d552801ea82e
URL:https://events.org/e/Khalid-Its-Always-Summer-Somewhere-Tour/SCMBVJJY
BEGIN:VALARM
ACTION:DISPLAY
SUMMARY:Reminder
TRIGGER:-P1D
END:VALARM
END:VEVENT
END:VCALENDAR
