BEGIN:VCALENDAR
METHOD:REQUEST
PRODID:-//events.orgNONSGML ical.net 4.0//EN
VERSION:2.0
BEGIN:VEVENT
DTEND;VALUE=DATE:20260710
DTSTAMP:20260422T090801Z
DTSTART;VALUE=DATE:20260710
LOCATION:Fox Theatre - Atlanta\, Atlanta
ORGANIZER;CN=:mailto:events@events.org
SEQUENCE:0
SUMMARY:Jill Scott - To Whom This May Concern Tour
UID:7eda477a-bf46-4c69-a388-ec2b71c1a945
URL:https://events.org/e/Jill-Scott---To-Whom-This-May-Concern-Tour/RLKIDW
 UN
BEGIN:VALARM
ACTION:DISPLAY
SUMMARY:Reminder
TRIGGER:-P1D
END:VALARM
END:VEVENT
END:VCALENDAR
