BEGIN:VCALENDAR
METHOD:REQUEST
PRODID:-//events.orgNONSGML ical.net 4.0//EN
VERSION:2.0
BEGIN:VEVENT
DTEND;VALUE=DATE:20260518
DTSTAMP:20260421T082100Z
DTSTART;VALUE=DATE:20260518
LOCATION:The Rebel Lounge\, Phoenix
ORGANIZER;CN=:mailto:events@events.org
SEQUENCE:0
SUMMARY:Andres w/ Resilia
UID:a6971fd3-1510-4aab-929f-16f4b8d15c82
URL:https://events.org/e/Andres-w-Resilia/GORBENHO
BEGIN:VALARM
ACTION:DISPLAY
SUMMARY:Reminder
TRIGGER:-P1D
END:VALARM
END:VEVENT
END:VCALENDAR
