BEGIN:VCALENDAR
METHOD:REQUEST
PRODID:-//events.orgNONSGML ical.net 4.0//EN
VERSION:2.0
BEGIN:VEVENT
DTEND;VALUE=DATE:20261002
DTSTAMP:20260419T154021Z
DTSTART;VALUE=DATE:20261002
LOCATION:Hard Rock Cafe Miami\, Miami
ORGANIZER;CN=:mailto:events@events.org
SEQUENCE:0
SUMMARY:Ride and Dine! Hard Rock Cafe Miami and Big Bus Tours Miami
UID:44aaa110-2655-4a7c-9ad9-65217ccc9948
URL:https://events.org/e/Ride-and-Dine-Hard-Rock-Cafe-Miami-and-Big-Bu/4DW
 VAADH
BEGIN:VALARM
ACTION:DISPLAY
SUMMARY:Reminder
TRIGGER:-P1D
END:VALARM
END:VEVENT
END:VCALENDAR
