BEGIN:VCALENDAR
METHOD:REQUEST
PRODID:-//events.orgNONSGML ical.net 4.0//EN
VERSION:2.0
BEGIN:VEVENT
DTEND;VALUE=DATE:20260822
DTSTAMP:20260421T082224Z
DTSTART;VALUE=DATE:20260822
LOCATION:Howard Theatre\, Washington
ORGANIZER;CN=:mailto:events@events.org
SEQUENCE:0
SUMMARY:The #1 Urban Stage Play "Man Of The House"
UID:467339f1-430d-49f1-93af-e5177248f759
URL:https://events.org/e/The-1-Urban-Stage-Play-Man-Of-The-House/NBJBCSNE
BEGIN:VALARM
ACTION:DISPLAY
SUMMARY:Reminder
TRIGGER:-P1D
END:VALARM
END:VEVENT
END:VCALENDAR
