BEGIN:VCALENDAR
METHOD:REQUEST
PRODID:-//events.orgNONSGML ical.net 4.0//EN
VERSION:2.0
BEGIN:VEVENT
DTEND;VALUE=DATE:20260626
DTSTAMP:20260422T090404Z
DTSTART;VALUE=DATE:20260626
LOCATION:Bagley Wright Theatre\, Seattle
ORGANIZER;CN=:mailto:events@events.org
SEQUENCE:0
SUMMARY:The Play That Goes Wrong
UID:e0b7e173-b0ae-412f-95ca-bc023c6adc53
URL:https://events.org/e/The-Play-That-Goes-Wrong/K45OFCIU
BEGIN:VALARM
ACTION:DISPLAY
SUMMARY:Reminder
TRIGGER:-P1D
END:VALARM
END:VEVENT
END:VCALENDAR
